BEGIN:VCALENDAR
VERSION:2.0
PRODID:-//Cámara de industriales del Estado Aragua - ECPv6.10.1.1//NONSGML v1.0//EN
CALSCALE:GREGORIAN
METHOD:PUBLISH
X-WR-CALNAME:Cámara de industriales del Estado Aragua
X-ORIGINAL-URL:https://ciea.org.ve
X-WR-CALDESC:Eventos para Cámara de industriales del Estado Aragua
REFRESH-INTERVAL;VALUE=DURATION:PT1H
X-Robots-Tag:noindex
X-PUBLISHED-TTL:PT1H
BEGIN:VTIMEZONE
TZID:America/Caracas
BEGIN:STANDARD
TZOFFSETFROM:-0400
TZOFFSETTO:-0400
TZNAME:-04
DTSTART:20260101T000000
END:STANDARD
END:VTIMEZONE
BEGIN:VEVENT
DTSTART;TZID=America/Caracas:20260428T090000
DTEND;TZID=America/Caracas:20260428T120000
DTSTAMP:20260421T060506
CREATED:20260413T142729Z
LAST-MODIFIED:20260420T140732Z
UID:14043-1777366800-1777377600@ciea.org.ve
SUMMARY:Charla: Riesgos Psicosociales y Buenas Prácticas en Seguridad y Salud Laboral
DESCRIPTION:La Cámara de Industriales del Estado Aragua (CIEA)\, tiene el agrado de invitarle a la Charla denominada “ Riesgos psicosociales y buenas prácticas en seguridad y salud laboral” \nObjetivo: Ofrecer herramientas que permita a las organizaciones identificar e intervenir en los factores que puedan afectar la salud mental y física de los empleados\, así como  analizar el marco legal obligatorio  para prevenir riesgos\, proteger la vida y garantizar condiciones dignas. \n  \nDirigido a: personal de seguridad\, salud laboral y ambiente\,  delegados de prevención de las entidades de trabajo. \nFacilitadores:  \nDra. Patricia Correia \nMédico Cirujano. Especialista en Salud Ocupacional e Higiene del Ambiente Laboral. Experta en gestión de empresas saludables (Ecuador/España). Especialista en el estudio\, diagnóstico e intervención de factores de riesgo psicosociales en el trabajo\, sus efectos en la salud y el impacto en el bienestar y productividad organizacional por más de 10 años. \n  \nDr. Luis Augusto Azuaje \nAbogado con especialización en Derecho del Trabajo y Procesal.  Con experiencia en representación en negociaciones colectivas\, conflictos colectivos del trabajo\, defensa de demandas judiciales y procedimientos administrativos individuales y colectivos para empresas nacionales y multinacionales. Vicepresidente del Comité de RRHH. Venamcham\, Región Central.Socio de GECA CONSULTORES. \n  \nContenido:  \n– Gestión de riesgos psicosociales: el activo estratégico para empresas de alto rendimiento \n– Buenas prácticas en materia de salud y seguridad laboral. Ámbito legal. \n  \nFecha: Martes\, 28 de abril de 2026 \nHorario: 09:00 am hasta las 12:00 m \n***Gratuito*** \nCómo Formalizar su inscripción \nLlenar la planilla que se presenta a continuación \n  \n ﻿﻿﻿﻿﻿﻿﻿﻿﻿﻿﻿﻿﻿﻿﻿﻿﻿﻿﻿﻿﻿﻿﻿﻿﻿﻿﻿﻿﻿﻿﻿﻿﻿﻿﻿﻿﻿﻿﻿﻿﻿&amp;amp;lt;span data-mce-type=»bookmark» style=»display: inline-block; width: 0px; overflow: hidden; line-height: 0;» class=»mce_SELRES_start»&amp;amp;gt;﻿&amp;amp;lt;/span&amp;amp;gt;&amp;amp;amp;amp;amp;amp;amp;amp;amp;amp;amp;lt;span data-mce-type=»bookmark» style=»display: inline-block; width: 0px; overflow: hidden; line-height: 0;» class=»mce_SELRES_start»&amp;amp;amp;amp;amp;amp;amp;amp;amp;amp;amp;gt;﻿&amp;amp;amp;amp;amp;amp;amp;amp;amp;amp;amp;lt;/span&amp;amp;amp;amp;amp;amp;amp;amp;amp;amp;amp;gt;&amp;amp;amp;amp;amp;amp;amp;amp;amp;amp;amp;amp;amp;amp;amp;amp;amp;lt;span data-mce-type=»bookmark» style=»display: inline-block; width: 0px; overflow: hidden; line-height: 0;» class=»mce_SELRES_start»&amp;amp;amp;amp;amp;amp;amp;amp;amp;amp;amp;amp;amp;amp;amp;amp;amp;gt;﻿&amp;amp;amp;amp;amp;amp;amp;amp;amp;amp;amp;amp;amp;amp;amp;amp;amp;lt;/span&amp;amp;amp;amp;amp;amp;amp;amp;amp;amp;amp;amp;amp;amp;amp;amp;amp;gt;&amp;amp;amp;amp;amp;amp;amp;amp;amp;amp;amp;amp;amp;amp;amp;amp;amp;amp;amp;amp;amp;amp;lt;span data-mce-type=»bookmark» style=»display: inline-block; width: 0px; overflow: ﻿hidden; line-height: 0;» class=»mce_SELRES_start»&amp;amp;amp;amp;amp;amp;amp;amp;amp;amp;amp;amp;amp;amp﻿;amp;amp;amp;amp;amp;amp;amp;amp;gt;﻿&amp;amp;amp;amp;amp;amp;amp;amp;amp;amp;amp;amp;amp;amp;amp;amp;amp;amp;amp;amp;amp;amp;lt;/span&amp;amp;amp;amp;amp;amp;amp;amp;amp;amp;amp;amp;amp;amp;amp;amp;amp;amp;amp;amp;amp;amp;gt;&amp;amp;amp;amp;amp;amp;amp;amp;amp;amp;amp;amp;amp;amp;amp;amp;amp;amp;amp;amp;amp;amp;amp;amp;amp;amp;amp;amp;amp;lt;span data-mce-type=»bookmark» style=»display: inline-block; width: 0px; overflow: hidden; line-height: 0;» class=»mce_SELRES_start»&amp;amp;amp;amp;amp;amp;amp;amp;amp;amp;amp;amp;amp;amp;amp;amp;amp;amp;amp;amp;amp;amp;amp;amp;amp;amp;amp;amp;amp;gt;﻿&amp;amp;amp;amp;amp;amp;amp;amp;amp;amp;amp;amp;amp;amp;amp;amp;amp;amp;amp;amp;amp;amp;amp;amp;amp;amp;amp;amp;amp;lt;/span&amp;amp;amp;amp;amp;amp;amp;amp;amp;amp;amp;amp;amp;amp;amp;amp;amp;amp;amp;amp;amp;amp;amp;amp;amp;amp;amp;amp;amp;gt;
URL:https://ciea.org.ve/event/charla-riesgos-psicosociales-y-buenas-practicas-en-seguridad-y-salud-laboral/
ATTACH;FMTTYPE=image/png:https://ciea.org.ve/wp-content/uploads/2026/04/Flyer-Charla-280426-riesgos-psicosociales-y-BP-en-SSLA-1.png
END:VEVENT
BEGIN:VEVENT
DTSTART;TZID=America/Caracas:20260507T000000
DTEND;TZID=America/Caracas:20260508T000000
DTSTAMP:20260421T060506
CREATED:20260305T010409Z
LAST-MODIFIED:20260325T153821Z
UID:13947-1778112000-1778198400@ciea.org.ve
SUMMARY:19° Jornadas de Recursos Humanos 2026
DESCRIPTION:La Cámara de Industriales del Estado Aragua\, a través de sus Comisión General de Recursos Humanos\, tiene el agrado de invitarle a la décimo novena edición de las Jornadas de Recursos Humanos: Conectando talento\, construyendo país\, un evento donde los participantes se actualizarán en materia estratégica para la gestión del talento humano\, poniéndose a tono con las exigencias mundiales en esta materia. \n  \nObjetivo General\nEste evento tiene como función principal brindar actualización a los representantes de nuestras empresas afiliadas y relacionadas en materia de gestión de capital humano. \nLa formación va dirigida a capacitar los equipos de trabajo vinculados a la gestión del capital humano en un contexto de cambio y de renovación para la trascendencia\, poniendo énfasis en las estrategias de competitividad\, el tema salarial y los derechos laborales\, las contrataciones colectivas\, las prestaciones sociales y las perspectivas económicas y cuáles serán las herramientas para actualizarse en un entorno de cambio y apertura para Venezuela. \n  \nDirigido a\nLa actividad va dirigida a Gerentes de Gestión de Gente\, Representantes y Coordinadores de departamentos de gestión humana\, Asistentes de Personal\, Jefes de Administración de Personal\, encargados de registrar los procesos administrativos relacionados con el área de Talento Humano en sociedades y/o empresas\, entre otros. \nTambién va dirigido a todo público\, en especial a profesionales de diversas áreas\, entre ellos: relacionistas industriales\, abogados\, administradores de personal\, consultores\, así como pequeños y grandes empresarios y quienes siguen procesos de gestión de personal \n  \nTemario\nJUEVES 07 DE MAYO \n1.- Cultura que genera resultados: Cómo las decisiones correctas fortalecen la ejecución\, la reputación y la trascendencia\nGustavo Romero – Miren Irizar \n2.- Los retos de la compensación en Venezuela: Cómo fidelizar talento en un entorno de competencia laboral\nHugo Urdaneta \n3.- Panel de Expertos: Presente y Futuro de las Prestaciones Sociales en Venezuela\nReinaldo Guilarte / Gustavo Nieto / Rafael Fuguet \n4.- Humanos con propósito. El motor invisible de la Industria 2026\nMaría Escudero \n5.- Bienestar organizacional como motor de productividad sostenible\nPatricia Correia \n6.- Ideas que crean riqueza o no…\nFreddy Lujano \n7.- Entorno país: riesgos y aciertos en materia económica para las empresas\nTamara Herrera \n  \nVIERNES 08 DE MAYO \n1.- De la administración de personal a la Gestión Estratégica del Potencial Humano\nMaría Tintori \n2.- El valor de la inteligencia artificial reconfigurando el futuro del trabajo\nEngelbert Mazutiel \n3.- De la reforma a la Ley del trabajo a la modernización de las organizaciones sindicales ¿Qué le espera a Venezuela en materia de contratación colectiva?\nCésar Carballo Mena / Irma Bontes Calderón /Gabriel Calleja \n4.- Productividad en la Ley Orgánica del Trabajo: Claves para la efectividad laboral y la utilidad de la empresa.\nLuis Azuaje \n5.- Efecto dominó: Beneficios de la reactivación petrolera en la industria convencional\nLuis Oliveros \n6.- Estrategias para transformar la gestión de Talento Humano en Venezuela\nAlberto Afiuni \n  \nInversión:  Pre Venta hasta el 15 de marzo:\nAfiliados: USD$ 130\,00\nGeneral:  USD$ 160\,00 \n  \nInversión: Desde el 16 de marzo:\nAfiliados: USD$ 150\,00\nGeneral:  USD$ 180\,00 \nConsulte nuestros Planes de Patrocinio\nDescargue aquí nuestro Brochure\nImportante\n*Los precios no incluyen IVA\n*Los pagos se hacen en Bs. A la tasa BCV del día del pago.\n*Todo pago realizado en divisa genera IGTF\n*No hacemos reintegro por inasistencia \n  \nFecha: 07/05/2026 – 08/05/2026\nLugar: Hotel Pipo Internacional. Salón Gran Sasso\nDuración: 08 horas diarias. \n*Incluye certificado de asistencia digital\, material de apoyo y refrigerios \n  \nCómo Formalizar su inscripción\nLlenar la planilla que se presenta a continuación \n  \n ﻿﻿﻿﻿﻿﻿﻿﻿﻿﻿﻿﻿﻿﻿﻿﻿﻿﻿﻿﻿﻿﻿﻿﻿﻿﻿﻿﻿﻿﻿﻿﻿﻿﻿&amp;amp;lt;span data-mce-type=»bookmark» style=»display: inline-block; width: 0px; overflow: hidden; line-height: 0;» class=»mce_SELRES_start»&amp;amp;gt;﻿&amp;amp;lt;/span&amp;amp;gt;&amp;amp;amp;amp;amp;amp;amp;amp;amp;amp;amp;lt;span data-mce-type=»bookmark» style=»display: inline-block; width: 0px; overflow: hidden; line-height: 0;» class=»mce_SELRES_start»&amp;amp;amp;amp;amp;amp;amp;amp;amp;amp;amp;gt;﻿&amp;amp;amp;amp;amp;amp;amp;amp;amp;amp;amp;lt;/span&amp;amp;amp;amp;amp;amp;amp;amp;amp;amp;amp;gt;&amp;amp;amp;amp;amp;amp;amp;amp;amp;amp;amp;amp;amp;amp;amp;amp;amp;lt;span data-mce-type=»bookmark» style=»display: inline-block; width: 0px; overflow: hidden; line-height: 0;» class=»mce_SELRES_start»&amp;amp;amp;amp;amp;amp;amp;amp;amp;amp;amp;amp;amp;amp;amp;amp;amp;gt;﻿&amp;amp;amp;amp;amp;amp;amp;amp;amp;amp;amp;amp;amp;amp;amp;amp;amp;lt;/span&amp;amp;amp;amp;amp;amp;amp;amp;amp;amp;amp;amp;amp;amp;amp;amp;amp;gt;&amp;amp;amp;amp;amp;amp;amp;amp;amp;amp;amp;amp;amp;amp;amp;amp;amp;amp;amp;amp;amp;amp;lt;span data-mce-type=»bookmark» style=»display: inline-block; width: 0px; overflow: ﻿hidden; line-height: 0;» class=»mce_SELRES_start»&amp;amp;amp;amp;amp;amp;amp;amp;amp;amp;amp;amp;amp;amp﻿;amp;amp;amp;amp;amp;amp;amp;amp;gt;﻿&amp;amp;amp;amp;amp;amp;amp;amp;amp;amp;amp;amp;amp;amp;amp;amp;amp;amp;amp;amp;amp;amp;lt;/span&amp;amp;amp;amp;amp;amp;amp;amp;amp;amp;amp;amp;amp;amp;amp;amp;amp;amp;amp;amp;amp;amp;gt;&amp;amp;amp;amp;amp;amp;amp;amp;amp;amp;amp;amp;amp;amp;amp;amp;amp;amp;amp;amp;amp;amp;amp;amp;amp;amp;amp;amp;amp;lt;span data-mce-type=»bookmark» style=»display: inline-block; width: 0px; overflow: hidden; line-height: 0;» class=»mce_SELRES_start»&amp;amp;amp;amp;amp;amp;amp;amp;amp;amp;amp;amp;amp;amp;amp;amp;amp;amp;amp;amp;amp;amp;amp;amp;amp;amp;amp;amp;amp;gt;﻿&amp;amp;amp;amp;amp;amp;amp;amp;amp;amp;amp;amp;amp;amp;amp;amp;amp;amp;amp;amp;amp;amp;amp;amp;amp;amp;amp;amp;amp;lt;/span&amp;amp;amp;amp;amp;amp;amp;amp;amp;amp;amp;amp;amp;amp;amp;amp;amp;amp;amp;amp;amp;amp;amp;amp;amp;amp;amp;amp;amp;gt; \nUna vez cumplido con el paso anterior\, (llenado de la planilla) deposite el monto respectivo a nombre de Cámara de Industriales del Estado Aragua. RIF: J-07517582-4 en: \n  \nPago en Bs: CTA. CTE. BNC Nro. 0191 0221 1221 0000 4390 \nPago en USD$: CTA. CUSTODIO. BNC Nro. 0191 0221 1123 0000 4585 \n  \nEnvíe copia del comprobante del pago a los correos administracion@ciea.org.ve / facturacion@ciea.org.ve. Sólo así se garantizará el cupo. \nNúmeros de contacto: 0424-3249104 / 0243-2173144
URL:https://ciea.org.ve/event/xix-jornadas-de-recursos-humanos-2026/
END:VEVENT
END:VCALENDAR