BEGIN:VCALENDAR
VERSION:2.0
PRODID:-//Cámara de industriales del Estado Aragua - ECPv6.10.1.1//NONSGML v1.0//EN
CALSCALE:GREGORIAN
METHOD:PUBLISH
X-ORIGINAL-URL:https://ciea.org.ve
X-WR-CALDESC:Eventos para Cámara de industriales del Estado Aragua
REFRESH-INTERVAL;VALUE=DURATION:PT1H
X-Robots-Tag:noindex
X-PUBLISHED-TTL:PT1H
BEGIN:VTIMEZONE
TZID:America/Caracas
BEGIN:STANDARD
TZOFFSETFROM:-0400
TZOFFSETTO:-0400
TZNAME:-04
DTSTART:20260101T000000
END:STANDARD
END:VTIMEZONE
BEGIN:VEVENT
DTSTART;TZID=America/Caracas:20260225T090000
DTEND;TZID=America/Caracas:20260225T120000
DTSTAMP:20260423T163759
CREATED:20260203T143416Z
LAST-MODIFIED:20260203T143416Z
UID:13940-1772010000-1772020800@ciea.org.ve
SUMMARY:Charla: ¿Del Bolívar al Dólar? Gestión de tesorería y supervivencia empresarial
DESCRIPTION:La Cámara de Industriales del Estado Aragua (CIEA)\, tiene el agrado de invitarle a la Charla denominada “¿Del Bolívar al Dólar? Gestión de tesorería y supervivencia empresarial” \nObjetivo: Mostrar sobre la base de datos y ejemplos\, cómo la industria petrolera\, los bancos\, el flujo de caja y los criptoactivos se entrelazan como piezas de un mismo tablero empresarial\, ofreciendo claves para transformar la incertidumbre en decisiones inteligentes y sostenibles. \n  \nDirigido a: Gerentes\, profesionales de las áreas contables  y financieras  de  empresas\, comerciantes\, emprendedores y público general. \nFacilitadores:  \nMariela Llovera. \nAbogada (ULA) y Licenciada en Relaciones Industriales (UC). Se dedica a brindar asesoría integral en gestión humana\, derecho mercantil y tributario\, incluyendo revisión y actualización de documentación legal\, negociación y representación en sede administrativa y judicial. Su práctica se orienta a la prevención y al cumplimiento normativo como herramientas para fortalecer la sostenibilidad de las PYMES. En el ejercicio de su profesión ha trabajado con empresas de agroindustria\, salud\, comercio y minería\, con experiencia complementaria en manufactura\, hidrocarburos y servicios. Diplomada en Normas Internacionales de Información Financiera (NIIF) por la Pontificia Universidad Javeriana de Bogotá y en Tecnología Educativa en el Instituto Tecnológico de Massachusetts (MIT) \n  \nSergio Caicedo \nIngeniero Mecánico egresado de la Universidad Simón Bolívar\, con más de 20 años de experiencia en la industria del calzado. Ha trabajado en proyectos de automatización de procesos y aplicación de inteligencia artificial a los negocios\, combina su trayectoria empresarial con asesorías en finanzas personales y corporativas. Actualmente se desempeña como Gerente de Nayma Consultores. \nContenido: \n\nPetróleo\, la fuente de los USD en Venezuela\nEl Mapa del Entorno Cambiario\nRadiografía Bancaria: Patrones de subastas y bancos autorizados.\nEl tipo de cambio implícito del negocio\nContabilidad Dinámica\nLos Criptos en la Estrategia\nClaves estratégicas finales\n\nFecha: Miércoles\, 25 de Febrero de 2026 \nHorario: 09:00 am hasta las 12:00 m \nCosto: Afiliados: 20\,00 USD + IVA \nNo Afiliados: 30\,00 USD + IVA \n(*) Los pagos se hacen en Bs. A la tasa BCV del día del pago \nstrong>Cómo Formalizar su inscripción \nLlenar la planilla que se presenta a continuación. \n ﻿﻿﻿﻿﻿﻿﻿﻿﻿﻿﻿﻿﻿﻿﻿﻿﻿﻿﻿﻿﻿﻿﻿﻿﻿﻿﻿﻿﻿﻿﻿﻿﻿﻿﻿﻿﻿﻿﻿﻿&amp;amp;lt;span data-mce-type=»bookmark» style=»display: inline-block; width: 0px; overflow: hidden; line-height: 0;» class=»mce_SELRES_start»&amp;amp;gt;﻿&amp;amp;lt;/span&amp;amp;gt;&amp;amp;amp;amp;amp;amp;amp;amp;amp;amp;amp;lt;span data-mce-type=»bookmark» style=»display: inline-block; width: 0px; overflow: hidden; line-height: 0;» class=»mce_SELRES_start»&amp;amp;amp;amp;amp;amp;amp;amp;amp;amp;amp;gt;﻿&amp;amp;amp;amp;amp;amp;amp;amp;amp;amp;amp;lt;/span&amp;amp;amp;amp;amp;amp;amp;amp;amp;amp;amp;gt;&amp;amp;amp;amp;amp;amp;amp;amp;amp;amp;amp;amp;amp;amp;amp;amp;amp;lt;span data-mce-type=»bookmark» style=»display: inline-block; width: 0px; overflow: hidden; line-height: 0;» class=»mce_SELRES_start»&amp;amp;amp;amp;amp;amp;amp;amp;amp;amp;amp;amp;amp;amp;amp;amp;amp;gt;﻿&amp;amp;amp;amp;amp;amp;amp;amp;amp;amp;amp;amp;amp;amp;amp;amp;amp;lt;/span&amp;amp;amp;amp;amp;amp;amp;amp;amp;amp;amp;amp;amp;amp;amp;amp;amp;gt;&amp;amp;amp;amp;amp;amp;amp;amp;amp;amp;amp;amp;amp;amp;amp;amp;amp;amp;amp;amp;amp;amp;lt;span data-mce-type=»bookmark» style=»display: inline-block; width: 0px; overflow: ﻿hidden; line-height: 0;» class=»mce_SELRES_start»&amp;amp;amp;amp;amp;amp;amp;amp;amp;amp;amp;amp;amp;amp﻿;amp;amp;amp;amp;amp;amp;amp;amp;gt;﻿&amp;amp;amp;amp;amp;amp;amp;amp;amp;amp;amp;amp;amp;amp;amp;amp;amp;amp;amp;amp;amp;amp;lt;/span&amp;amp;amp;amp;amp;amp;amp;amp;amp;amp;amp;amp;amp;amp;amp;amp;amp;amp;amp;amp;amp;amp;gt;&amp;amp;amp;amp;amp;amp;amp;amp;amp;amp;amp;amp;amp;amp;amp;amp;amp;amp;amp;amp;amp;amp;amp;amp;amp;amp;amp;amp;amp;lt;span data-mce-type=»bookmark» style=»display: inline-block; width: 0px; overflow: hidden; line-height: 0;» class=»mce_SELRES_start»&amp;amp;amp;amp;amp;amp;amp;amp;amp;amp;amp;amp;amp;amp;amp;amp;amp;amp;amp;amp;amp;amp;amp;amp;amp;amp;amp;amp;amp;gt;﻿&amp;amp;amp;amp;amp;amp;amp;amp;amp;amp;amp;amp;amp;amp;amp;amp;amp;amp;amp;amp;amp;amp;amp;amp;amp;amp;amp;amp;amp;lt;/span&amp;amp;amp;amp;amp;amp;amp;amp;amp;amp;amp;amp;amp;amp;amp;amp;amp;amp;amp;amp;amp;amp;amp;amp;amp;amp;amp;amp;amp;gt; \nUna vez cumplido con el paso anterior\, (llenado de la planilla) deposite el monto respectivo en la cuenta corriente del Banco Mercantil Nro. 0105-0100-81-8100021430 a nombre de Cámara de Industriales del Estado Aragua. RIF.: J – 07517582 – 4· Envíe copia del comprobante del depósito por e-mail a facturacion@ciea.org.ve. Sólo así se garantizará el cupo.
URL:https://ciea.org.ve/event/charla-del-bolivar-al-dolar-gestion-de-tesoreria-y-supervivencia-empresarial/
ATTACH;FMTTYPE=image/jpeg:https://ciea.org.ve/wp-content/uploads/2026/02/Flyer-Charla-Del-Bolivar-al-Dolar-250226.jpeg
END:VEVENT
END:VCALENDAR